BEGIN:VCALENDAR
VERSION:2.0
PRODID:-//Stokes Bay - ECPv6.15.11//NONSGML v1.0//EN
CALSCALE:GREGORIAN
METHOD:PUBLISH
X-WR-CALNAME:Stokes Bay
X-ORIGINAL-URL:https://stokesbay-sc.co.uk
X-WR-CALDESC:Events for Stokes Bay
REFRESH-INTERVAL;VALUE=DURATION:PT1H
X-Robots-Tag:noindex
X-PUBLISHED-TTL:PT1H
BEGIN:VTIMEZONE
TZID:UTC
BEGIN:STANDARD
TZOFFSETFROM:+0000
TZOFFSETTO:+0000
TZNAME:UTC
DTSTART:20240101T000000
END:STANDARD
END:VTIMEZONE
BEGIN:VEVENT
DTSTART;TZID=UTC:20251130T110000
DTEND;TZID=UTC:20251130T133000
DTSTAMP:20260420T112826
CREATED:20251017T121018Z
LAST-MODIFIED:20251107T102353Z
UID:10000011-1764500400-1764509400@stokesbay-sc.co.uk
SUMMARY:Winter Sailing Series at Stokes Bay Sailing Club
DESCRIPTION:Join Stokes Bay SC for the Winter Series from November through to end of December. Competitive club racing for dinghies and cats every Sunday (11am start – 2 races). \nFree boat parking\, Warm up with friendly clubmates\, hot food and bar. \nCost –  Adult Single Hander £55 or join for both Winter Series and Icicle Series (Jan-Mar) £84
URL:https://stokesbay-sc.co.uk/event/winter-sailing-at-stokes-bay-sailing-club/2025-11-30/
CATEGORIES:Open Meetings
ATTACH;FMTTYPE=image/jpeg:https://stokesbay-sc.co.uk/wp-content/uploads/2025/10/Open-Winter-series-scaled.jpg
END:VEVENT
END:VCALENDAR