BEGIN:VCALENDAR
VERSION:2.0
PRODID:-//Stokes Bay - ECPv6.15.11//NONSGML v1.0//EN
CALSCALE:GREGORIAN
METHOD:PUBLISH
X-WR-CALNAME:Stokes Bay
X-ORIGINAL-URL:https://stokesbay-sc.co.uk
X-WR-CALDESC:Events for Stokes Bay
REFRESH-INTERVAL;VALUE=DURATION:PT1H
X-Robots-Tag:noindex
X-PUBLISHED-TTL:PT1H
BEGIN:VTIMEZONE
TZID:UTC
BEGIN:STANDARD
TZOFFSETFROM:+0000
TZOFFSETTO:+0000
TZNAME:UTC
DTSTART:20250101T000000
END:STANDARD
END:VTIMEZONE
BEGIN:VEVENT
DTSTART;TZID=UTC:20260417T183000
DTEND;TZID=UTC:20260417T223000
DTSTAMP:20260423T122906
CREATED:20260311T132709Z
LAST-MODIFIED:20260311T132709Z
UID:10000128-1776450600-1776465000@stokesbay-sc.co.uk
SUMMARY:Hot Hog Bap Night
DESCRIPTION:Details to follow.
URL:https://stokesbay-sc.co.uk/event/hot-hog-bap-night/
CATEGORIES:Club Socials
END:VEVENT
END:VCALENDAR