BEGIN:VCALENDAR
VERSION:2.0
PRODID:-//Stokes Bay - ECPv6.15.11//NONSGML v1.0//EN
CALSCALE:GREGORIAN
METHOD:PUBLISH
X-ORIGINAL-URL:https://stokesbay-sc.co.uk
X-WR-CALDESC:Events for Stokes Bay
REFRESH-INTERVAL;VALUE=DURATION:PT1H
X-Robots-Tag:noindex
X-PUBLISHED-TTL:PT1H
BEGIN:VTIMEZONE
TZID:UTC
BEGIN:STANDARD
TZOFFSETFROM:+0000
TZOFFSETTO:+0000
TZNAME:UTC
DTSTART:20250101T000000
END:STANDARD
END:VTIMEZONE
BEGIN:VEVENT
DTSTART;VALUE=DATE:20260516
DTEND;VALUE=DATE:20260517
DTSTAMP:20260421T044947
CREATED:20251017T123842Z
LAST-MODIFIED:20260420T134222Z
UID:10000077-1778889600-1778975999@stokesbay-sc.co.uk
SUMMARY:ILCA Open 16th May
DESCRIPTION:ENTER HERE \nA chance to sharpen your skills in big fleet racing. The event is for all 3 rigs (ILCA 4\, 6 & 7) with separate starts planned if fleet sizes are big enough. 3 races back-to-back. \n Entries by Mid-Day 14th May \nCOST:  £30 – Late entries accepted until 10am on Saturday 16th May\, with payment of late entry fee £10 and filling in of a paper form. \nSTART TIME: briefing at 1100\, first race at 1200 \nDOCUMENTS : SBSC ILCA Open 16th May 2026 NoR v6 \nARRIVING AT STOKES BAY – Pebble Beach Car Park is regularly monitored by Gosport Borough Council so don’t forget to pay for your parking. Once you have unhitched your trailer\, please take it on to the beach keeping the public promenade clear at all times during the day. \nSOCIAL ARRANGEMENTS – Breakfast will be available in the club room from 9am and hot food from 4 – 7pm (normal galley menu). \nBar open 12 – 10.30pm \n  \n \n  \n 
URL:https://stokesbay-sc.co.uk/event/ilca-open/
CATEGORIES:Open Meetings
ATTACH;FMTTYPE=image/jpeg:https://stokesbay-sc.co.uk/wp-content/uploads/2025/10/ILCA-Open-4.jpg
END:VEVENT
BEGIN:VEVENT
DTSTART;TZID=UTC:20260523T093000
DTEND;TZID=UTC:20260524T170000
DTSTAMP:20260421T044947
CREATED:20251218T165003Z
LAST-MODIFIED:20260323T101725Z
UID:10000102-1779528600-1779642000@stokesbay-sc.co.uk
SUMMARY:Dart 18 TT Open 23rd & 24th May
DESCRIPTION:ENTER HERE \nEvent information will be uploaded soon.
URL:https://stokesbay-sc.co.uk/event/dart-18-tt-open/
CATEGORIES:Open Meetings
ATTACH;FMTTYPE=image/jpeg:https://stokesbay-sc.co.uk/wp-content/uploads/2025/12/Dart-18-Open-scaled.jpg
END:VEVENT
BEGIN:VEVENT
DTSTART;TZID=UTC:20260627T123000
DTEND;TZID=UTC:20260628T170000
DTSTAMP:20260421T044947
CREATED:20251218T165251Z
LAST-MODIFIED:20260118T183422Z
UID:10000104-1782563400-1782666000@stokesbay-sc.co.uk
SUMMARY:Club Championships
DESCRIPTION:
URL:https://stokesbay-sc.co.uk/event/club-championships/
CATEGORIES:Club Socials
END:VEVENT
BEGIN:VEVENT
DTSTART;TZID=UTC:20260711T090000
DTEND;TZID=UTC:20260711T170000
DTSTAMP:20260421T044947
CREATED:20251218T165338Z
LAST-MODIFIED:20260118T181013Z
UID:10000105-1783760400-1783789200@stokesbay-sc.co.uk
SUMMARY:Topper Open 11th July
DESCRIPTION:
URL:https://stokesbay-sc.co.uk/event/topper-open/
CATEGORIES:Open Meetings
ATTACH;FMTTYPE=image/webp:https://stokesbay-sc.co.uk/wp-content/uploads/2025/12/Topper-Traveller-SBSC-24-V1.webp
END:VEVENT
BEGIN:VEVENT
DTSTART;TZID=UTC:20260905T090000
DTEND;TZID=UTC:20260906T170000
DTSTAMP:20260421T044947
CREATED:20251218T170202Z
LAST-MODIFIED:20260119T162620Z
UID:10000112-1788598800-1788714000@stokesbay-sc.co.uk
SUMMARY:Europe/Single-Hander Open 5th & 6th Sept
DESCRIPTION:
URL:https://stokesbay-sc.co.uk/event/europe-single-hander-open/
CATEGORIES:Open Meetings
ATTACH;FMTTYPE=image/jpeg:https://stokesbay-sc.co.uk/wp-content/uploads/2025/12/Europe-Womens-day.jpg
END:VEVENT
END:VCALENDAR